BEGIN:VCALENDAR
VERSION:2.0
PRODID:-//ConVerve GmbH//B2BMatch//EN
METHOD:PUBLISH
BEGIN:VEVENT
DTSTART:20260304T090000Z
DTEND:20260304T190000Z
SUMMARY:Donegal Tourism Industry Networking Event 2026
LOCATION:Jackson's Hotel
DESCRIPTION:
UID:0000001
DTSTAMP:20260107T132541Z
END:VEVENT
END:VCALENDAR
